BEGIN:VCALENDAR
VERSION:2.0
PRODID:-//LOSBF&amp;DA - ECPv6.15.20//NONSGML v1.0//EN
CALSCALE:GREGORIAN
METHOD:PUBLISH
X-WR-CALNAME:LOSBF&amp;DA
X-ORIGINAL-URL:https://losbf.fr
X-WR-CALDESC:Évènements pour LOSBF&amp;DA
REFRESH-INTERVAL;VALUE=DURATION:PT1H
X-Robots-Tag:noindex
X-PUBLISHED-TTL:PT1H
BEGIN:VTIMEZONE
TZID:Europe/Paris
BEGIN:DAYLIGHT
TZOFFSETFROM:+0100
TZOFFSETTO:+0200
TZNAME:CEST
DTSTART:20240331T010000
END:DAYLIGHT
BEGIN:STANDARD
TZOFFSETFROM:+0200
TZOFFSETTO:+0100
TZNAME:CET
DTSTART:20241027T010000
END:STANDARD
BEGIN:DAYLIGHT
TZOFFSETFROM:+0100
TZOFFSETTO:+0200
TZNAME:CEST
DTSTART:20250330T010000
END:DAYLIGHT
BEGIN:STANDARD
TZOFFSETFROM:+0200
TZOFFSETTO:+0100
TZNAME:CET
DTSTART:20251026T010000
END:STANDARD
BEGIN:DAYLIGHT
TZOFFSETFROM:+0100
TZOFFSETTO:+0200
TZNAME:CEST
DTSTART:20260329T010000
END:DAYLIGHT
BEGIN:STANDARD
TZOFFSETFROM:+0200
TZOFFSETTO:+0100
TZNAME:CET
DTSTART:20261025T010000
END:STANDARD
END:VTIMEZONE
BEGIN:VEVENT
DTSTART;TZID=Europe/Paris:20250426T080000
DTEND;TZID=Europe/Paris:20250427T170000
DTSTAMP:20260425T005240
CREATED:20241218T174807Z
LAST-MODIFIED:20241218T174807Z
UID:1866-1745654400-1745773200@losbf.fr
SUMMARY:Formation UC1
DESCRIPTION:
URL:https://losbf.fr/event/formation-uc1/
LOCATION:Saint Christol les Alès\, Saint Christol Les Alès\, Gard\, 30380\, France
CATEGORIES:Formation Monitorat
END:VEVENT
END:VCALENDAR